BEGIN:VCALENDAR
VERSION:2.0
PRODID:-//Beyond Benign - ECPv6.15.20//NONSGML v1.0//EN
CALSCALE:GREGORIAN
METHOD:PUBLISH
X-WR-CALNAME:Beyond Benign
X-ORIGINAL-URL:https://www.beyondbenign.org
X-WR-CALDESC:Events for Beyond Benign
REFRESH-INTERVAL;VALUE=DURATION:PT1H
X-Robots-Tag:noindex
X-PUBLISHED-TTL:PT1H
BEGIN:VTIMEZONE
TZID:America/Los_Angeles
BEGIN:DAYLIGHT
TZOFFSETFROM:-0800
TZOFFSETTO:-0700
TZNAME:PDT
DTSTART:20180311T100000
END:DAYLIGHT
BEGIN:STANDARD
TZOFFSETFROM:-0700
TZOFFSETTO:-0800
TZNAME:PST
DTSTART:20181104T090000
END:STANDARD
BEGIN:DAYLIGHT
TZOFFSETFROM:-0800
TZOFFSETTO:-0700
TZNAME:PDT
DTSTART:20190310T100000
END:DAYLIGHT
BEGIN:STANDARD
TZOFFSETFROM:-0700
TZOFFSETTO:-0800
TZNAME:PST
DTSTART:20191103T090000
END:STANDARD
BEGIN:DAYLIGHT
TZOFFSETFROM:-0800
TZOFFSETTO:-0700
TZNAME:PDT
DTSTART:20200308T100000
END:DAYLIGHT
BEGIN:STANDARD
TZOFFSETFROM:-0700
TZOFFSETTO:-0800
TZNAME:PST
DTSTART:20201101T090000
END:STANDARD
END:VTIMEZONE
BEGIN:VEVENT
DTSTART;TZID=America/Los_Angeles:20191029T110000
DTEND;TZID=America/Los_Angeles:20191029T120000
DTSTAMP:20260419T183942
CREATED:20190805T150806Z
LAST-MODIFIED:20190805T150806Z
UID:10000233-1572346800-1572350400@www.beyondbenign.org
SUMMARY:Association for the Advancement of Sustainability in Higher Education’s (AASHE’s) Annual Conference Poster Session
DESCRIPTION:Join Beyond Benign’s Director of the Green Chemistry Commitment program\, Irv Levy at the AASHE conference where he will co-present with Green Chemistry Scientist\, Saskia van Bergen\, from the Washington State Department of Ecology a poster on “Breaking the Silos: Increasing the awareness and adoption of Green Chemistry across disciplines”.  \nAbstract : \nGreen chemistry is the design of chemical products and processes that use and generate less hazardous materials. In practice\, green chemistry can result in tremendous benefits such as the reduction of hazardous waste\, reduction in use of hazardous chemicals\, reduction in purchasing costs\, and increasing the energy efficiency of laboratory practices. The field of green chemistry has grown significantly over the past two decades and has remained somewhat separate from campus sustainability initiatives. In reality\, the principles and practice of green chemistry can be applied across disciplines and solutions to sustainability challenges will ultimately require multidisciplinary approaches. This presentation will provide an overview of Green Chemistry and how it can be applied in disciplines and courses beyond the sciences\, such as art\, business\, communications\, economics\, and more. Specific examples include how governmental programs such as the U.S. EPA’s Safer Choice\, a certification used in Environmental Preferable Purchasing\, can be used to showcase greener chemical products in courses (i.e.\, chemistry and communications)\, as well as in student club activities. Green chemistry applied to art courses will also be presented as a model for reducing impacts in courses and programs beyond the chemistry course and lab. The use of chemicals on campuses and in courses is not limited to chemistry courses and programs and even reaches us in our daily lives at home. Green chemistry can have significant benefits when applied across disciplines\, helping to reduce impacts and hazards.\n\n 
URL:https://www.beyondbenign.org/event/association-for-the-advancement-of-sustainability-in-higher-educations-aashes-annual-conference-poster-session/
LOCATION:Spokane\, Washington Convention Center\, 334 W Spokane Falls Blvd\, Spokane\, WA\, 99201\, United States
CATEGORIES:Conference,Higher Education
ATTACH;FMTTYPE=image/png:https://www.beyondbenign.org/wp-content/uploads/Calendar_HIgherEd_Conference.png
END:VEVENT
BEGIN:VEVENT
DTSTART;TZID=America/Los_Angeles:20191028T091500
DTEND;TZID=America/Los_Angeles:20191028T101500
DTSTAMP:20260419T183942
CREATED:20190805T145707Z
LAST-MODIFIED:20190805T151439Z
UID:10000232-1572254100-1572257700@www.beyondbenign.org
SUMMARY:Association for the Advancement of Sustainability in Higher Education’s (AASHE’s) Annual Conference
DESCRIPTION:Join Beyond Benign’s Director of the Green Chemistry Commitment program\, Irv Levy at the AASHE conference where he will co-present with Green Chemistry Scientist\, Saskia van Bergen\, from the Washington State Department of Ecology on “Empowering Students and the Community Through Green Chemistry and Sustainable Science Outreach“.  \nAbstract can be found here. \nLocation: Spokane\, Washington Convention Center \n 
URL:https://www.beyondbenign.org/event/association-for-the-advancement-of-sustainability-in-higher-educations-aashes-annual-conference/
LOCATION:Spokane\, Washington Convention Center\, 334 W Spokane Falls Blvd\, Spokane\, WA\, 99201\, United States
CATEGORIES:Community Engagement,Conference,Higher Education
ATTACH;FMTTYPE=image/png:https://www.beyondbenign.org/wp-content/uploads/Calendar_K12_ConfWork.png
END:VEVENT
END:VCALENDAR