BEGIN:VCALENDAR
VERSION:2.0
PRODID:-//Beyond Benign - ECPv6.15.20//NONSGML v1.0//EN
CALSCALE:GREGORIAN
METHOD:PUBLISH
X-WR-CALNAME:Beyond Benign
X-ORIGINAL-URL:https://www.beyondbenign.org
X-WR-CALDESC:Events for Beyond Benign
REFRESH-INTERVAL;VALUE=DURATION:PT1H
X-Robots-Tag:noindex
X-PUBLISHED-TTL:PT1H
BEGIN:VTIMEZONE
TZID:America/New_York
BEGIN:DAYLIGHT
TZOFFSETFROM:-0500
TZOFFSETTO:-0400
TZNAME:EDT
DTSTART:20180311T070000
END:DAYLIGHT
BEGIN:STANDARD
TZOFFSETFROM:-0400
TZOFFSETTO:-0500
TZNAME:EST
DTSTART:20181104T060000
END:STANDARD
BEGIN:DAYLIGHT
TZOFFSETFROM:-0500
TZOFFSETTO:-0400
TZNAME:EDT
DTSTART:20190310T070000
END:DAYLIGHT
BEGIN:STANDARD
TZOFFSETFROM:-0400
TZOFFSETTO:-0500
TZNAME:EST
DTSTART:20191103T060000
END:STANDARD
BEGIN:DAYLIGHT
TZOFFSETFROM:-0500
TZOFFSETTO:-0400
TZNAME:EDT
DTSTART:20200308T070000
END:DAYLIGHT
BEGIN:STANDARD
TZOFFSETFROM:-0400
TZOFFSETTO:-0500
TZNAME:EST
DTSTART:20201101T060000
END:STANDARD
END:VTIMEZONE
BEGIN:VEVENT
DTSTART;TZID=America/New_York:20190516T160000
DTEND;TZID=America/New_York:20190516T183000
DTSTAMP:20260420T044127
CREATED:20190418T194200Z
LAST-MODIFIED:20190509T153415Z
UID:10000219-1558022400-1558031400@www.beyondbenign.org
SUMMARY:Boston University STEM Institute
DESCRIPTION:Join BB staff\, Amanda Maddalone and Janie Butler\, as they leads two sessions for both Middle and High School teachers. Titled Sustainable Innovations in Industry and Chemistry with a Conscience. Through these sessions participants will learn how green chemistry can fit into their STEM classroom while aligning to NGSS standards. \nRSVP here.
URL:https://www.beyondbenign.org/event/stem-institute/
LOCATION:Earl Center\, 180 Riverway\, Boston\, MA\, 02155\, United States
CATEGORIES:Conference,K-12,Teacher Training Workshop
ATTACH;FMTTYPE=image/png:https://www.beyondbenign.org/wp-content/uploads/Calendar_K12_ConfWork-2.png
END:VEVENT
END:VCALENDAR