BEGIN:VCALENDAR
VERSION:2.0
PRODID:-//Beyond Benign - ECPv6.15.20//NONSGML v1.0//EN
CALSCALE:GREGORIAN
METHOD:PUBLISH
X-WR-CALNAME:Beyond Benign
X-ORIGINAL-URL:https://www.beyondbenign.org
X-WR-CALDESC:Events for Beyond Benign
REFRESH-INTERVAL;VALUE=DURATION:PT1H
X-Robots-Tag:noindex
X-PUBLISHED-TTL:PT1H
BEGIN:VTIMEZONE
TZID:America/New_York
BEGIN:DAYLIGHT
TZOFFSETFROM:-0500
TZOFFSETTO:-0400
TZNAME:EDT
DTSTART:20170312T070000
END:DAYLIGHT
BEGIN:STANDARD
TZOFFSETFROM:-0400
TZOFFSETTO:-0500
TZNAME:EST
DTSTART:20171105T060000
END:STANDARD
BEGIN:DAYLIGHT
TZOFFSETFROM:-0500
TZOFFSETTO:-0400
TZNAME:EDT
DTSTART:20180311T070000
END:DAYLIGHT
BEGIN:STANDARD
TZOFFSETFROM:-0400
TZOFFSETTO:-0500
TZNAME:EST
DTSTART:20181104T060000
END:STANDARD
BEGIN:DAYLIGHT
TZOFFSETFROM:-0500
TZOFFSETTO:-0400
TZNAME:EDT
DTSTART:20190310T070000
END:DAYLIGHT
BEGIN:STANDARD
TZOFFSETFROM:-0400
TZOFFSETTO:-0500
TZNAME:EST
DTSTART:20191103T060000
END:STANDARD
END:VTIMEZONE
BEGIN:VEVENT
DTSTART;VALUE=DATE:20181019
DTEND;VALUE=DATE:20181021
DTSTAMP:20260422T040130
CREATED:20180911T175707Z
LAST-MODIFIED:20181017T200208Z
UID:10000178-1539907200-1540079999@www.beyondbenign.org
SUMMARY:Washington Science Teachers Association Conference
DESCRIPTION:Learning from Nature: STEAM Investigations for the Elementary Classroom \nLearn how Target\, Beyond Benign and a team of elementary school teachers are working together to create interactive curriculum spotlighting technologies inspired by nature. Explore practical tips for implementing open-access units covering engineering design\, animal adaptations and properties of matter.
URL:https://www.beyondbenign.org/event/washington-science-teachers-association-conference/
LOCATION:4 Points by Sheraton Bellingham Hotel and Conference Center\, Bellingham\, WA\, United States
CATEGORIES:K-12,Teacher Training Workshop
ATTACH;FMTTYPE=image/png:https://www.beyondbenign.org/wp-content/uploads/Calendar_K12_ConfWork-5.png
GEO:48.7519112;-122.4786854
END:VEVENT
END:VCALENDAR