BEGIN:VCALENDAR
VERSION:2.0
PRODID:-//Beyond Benign - ECPv6.15.20//NONSGML v1.0//EN
CALSCALE:GREGORIAN
METHOD:PUBLISH
X-ORIGINAL-URL:https://www.beyondbenign.org
X-WR-CALDESC:Events for Beyond Benign
REFRESH-INTERVAL;VALUE=DURATION:PT1H
X-Robots-Tag:noindex
X-PUBLISHED-TTL:PT1H
BEGIN:VTIMEZONE
TZID:America/New_York
BEGIN:DAYLIGHT
TZOFFSETFROM:-0500
TZOFFSETTO:-0400
TZNAME:EDT
DTSTART:20220313T070000
END:DAYLIGHT
BEGIN:STANDARD
TZOFFSETFROM:-0400
TZOFFSETTO:-0500
TZNAME:EST
DTSTART:20221106T060000
END:STANDARD
BEGIN:DAYLIGHT
TZOFFSETFROM:-0500
TZOFFSETTO:-0400
TZNAME:EDT
DTSTART:20230312T070000
END:DAYLIGHT
BEGIN:STANDARD
TZOFFSETFROM:-0400
TZOFFSETTO:-0500
TZNAME:EST
DTSTART:20231105T060000
END:STANDARD
BEGIN:DAYLIGHT
TZOFFSETFROM:-0500
TZOFFSETTO:-0400
TZNAME:EDT
DTSTART:20240310T070000
END:DAYLIGHT
BEGIN:STANDARD
TZOFFSETFROM:-0400
TZOFFSETTO:-0500
TZNAME:EST
DTSTART:20241103T060000
END:STANDARD
END:VTIMEZONE
BEGIN:VEVENT
DTSTART;VALUE=DATE:20230907
DTEND;VALUE=DATE:20230909
DTSTAMP:20260423T082245
CREATED:20230824T183125Z
LAST-MODIFIED:20230831T174659Z
UID:10000425-1694044800-1694217599@www.beyondbenign.org
SUMMARY:Sustainability in Chemistry
DESCRIPTION:  \nOfficial Event Description: \nSustainable chemistry offers solutions to some of the biggest challenges facing society. This event celebrates the enormous strides made towards using chemistry to ensure a safe and healthy world for tomorrow and the launch of the School of Chemistry’s MSci in Chemistry with Sustainability. \nJoin us in Birmingham to hear from leading experts in diverse areas of Sustainable Chemistry and about recent breakthroughs in this world-changing field. The symposium includes a range of leading speakers from UK and abroad\, alongside opportunities for PhD and postdoctoral researchers to present their work through oral and poster presentations.  The symposium will be based at the University of Birmingham Edgbaston Campus\, which is well on its way to becoming a Smart and Net Zero Campus by 2035\, and already filled with thousands of trees\, a botanic garden and schemes to protect wildlife such as hedgehogs on campus. \nLearn more about the event and register here. \n  \nFeatured Talk: A Systemic Change for a Sustainable Future: The Green Chemistry Commitment  \nDr. Juliana Vidal\, Program Manager\, Higher Education \nJoin us in Birmingham for Dr. Juliana Vidal’s talk\, A Systemic Change for a Sustainable Future: The Green Chemistry Commitment. \nEducation is central to creating lasting change\, and a background in sustainability allows the development of a scientific workforce and a knowledgeable citizenry prepared to design and choose more benign processes for human health and the environment. In this context\, green chemistry education plays a fundamental role in achieving the 17 United Nations Sustainable Development Goals and the targets stated due to its capacity to reach and interconnect distinct aspects of our society.  \nBeyond Benign is a non-profit organization dedicated to creating a systemic change in chemistry education and empowering the chemistry community to practice sustainability at the molecular level through green chemistry. Its Green Chemistry Commitment (GCC) program was created in 2013 and aims to catalyze the incorporation of green chemistry into science courses at higher education institutions globally.  \nOver 130 institutions are part of the GCC community and are integrating green chemistry on their own timelines and building upon unique campus environments and strengths. In this presentation\, insights into the GCC program adoption around the world and in the UK will be discussed\, as well as the GCC implementation in a wide range of higher education institutions.  \n \nEvent Details\n\nWho: Open/Entire Community\nWhen: September 7th-September 8th\nWhere: Birmingham\, UK\nHow: Register here.
URL:https://www.beyondbenign.org/event/sustainability-in-chemistry/
CATEGORIES:Conference
ATTACH;FMTTYPE=image/png:https://www.beyondbenign.org/wp-content/uploads/Untitled-design-3-3.png
END:VEVENT
END:VCALENDAR