BEGIN:VCALENDAR
VERSION:2.0
PRODID:-//Beyond Benign - ECPv6.15.20//NONSGML v1.0//EN
CALSCALE:GREGORIAN
METHOD:PUBLISH
X-ORIGINAL-URL:https://www.beyondbenign.org
X-WR-CALDESC:Events for Beyond Benign
REFRESH-INTERVAL;VALUE=DURATION:PT1H
X-Robots-Tag:noindex
X-PUBLISHED-TTL:PT1H
BEGIN:VTIMEZONE
TZID:America/New_York
BEGIN:DAYLIGHT
TZOFFSETFROM:-0500
TZOFFSETTO:-0400
TZNAME:EDT
DTSTART:20230312T070000
END:DAYLIGHT
BEGIN:STANDARD
TZOFFSETFROM:-0400
TZOFFSETTO:-0500
TZNAME:EST
DTSTART:20231105T060000
END:STANDARD
BEGIN:DAYLIGHT
TZOFFSETFROM:-0500
TZOFFSETTO:-0400
TZNAME:EDT
DTSTART:20240310T070000
END:DAYLIGHT
BEGIN:STANDARD
TZOFFSETFROM:-0400
TZOFFSETTO:-0500
TZNAME:EST
DTSTART:20241103T060000
END:STANDARD
BEGIN:DAYLIGHT
TZOFFSETFROM:-0500
TZOFFSETTO:-0400
TZNAME:EDT
DTSTART:20250309T070000
END:DAYLIGHT
BEGIN:STANDARD
TZOFFSETFROM:-0400
TZOFFSETTO:-0500
TZNAME:EST
DTSTART:20251102T060000
END:STANDARD
END:VTIMEZONE
BEGIN:VEVENT
DTSTART;TZID=America/New_York:20240927T110000
DTEND;TZID=America/New_York:20240927T130000
DTSTAMP:20260420T225038
CREATED:20240903T132618Z
LAST-MODIFIED:20240903T133558Z
UID:10000484-1727434800-1727442000@www.beyondbenign.org
SUMMARY:Use This Not That: Safer Substitutions for Methylene Chloride
DESCRIPTION:From the Lab Safety Institute: \nJoin our webinar on September 27th at 11:00 AM EST to explore the latest TSCA regulations on methylene chloride and their impact on lab practices. Learn practical strategies for substituting methylene chloride in research and school labs and discover effective methods for finding safer\, green chemistry alternatives with our expert partners\, Beyond Benign. \n \n  \nMore about the Lab Safety Initiative’s Methylene Chloride Webinar Series: \nThis webinar series will focus on actionable steps to comply with the EPA TSCA final rule on methylene chloride. Walking through the hierarchy of controls\, each installment will focus on a hazard control method (elimination\, substitution\, engineering controls\, administrative\, PPE) applicable to laboratory handling of this common reagent. \nThe webinar series will help participants: \n\nMeet the EPA TSCA regulatory requirements\nProvide guidance on selecting safer alternatives to methylene chloride\nUpdate processes to promote safety and minimize exposure by developing exposure control plans (ECPs)\nOffer practical strategies for managing exposure\, implementing safety controls\, and maintaining compliance documentation\n\nDesigned for anyone in academia or industry who uses methylene chloride\, this webinar series offers essential strategies to navigate new regulatory landscapes and enhance laboratory safety culture.
URL:https://www.beyondbenign.org/event/use-this-not-that-safer-substitutions-for-methylene-chloride/
LOCATION:Virtual
CATEGORIES:General
ATTACH;FMTTYPE=image/png:https://www.beyondbenign.org/wp-content/uploads/Unknown-10.png
END:VEVENT
END:VCALENDAR