BEGIN:VCALENDAR
VERSION:2.0
PRODID:-//Beyond Benign - ECPv6.15.20//NONSGML v1.0//EN
CALSCALE:GREGORIAN
METHOD:PUBLISH
X-ORIGINAL-URL:https://www.beyondbenign.org
X-WR-CALDESC:Events for Beyond Benign
REFRESH-INTERVAL;VALUE=DURATION:PT1H
X-Robots-Tag:noindex
X-PUBLISHED-TTL:PT1H
BEGIN:VTIMEZONE
TZID:America/New_York
BEGIN:DAYLIGHT
TZOFFSETFROM:-0500
TZOFFSETTO:-0400
TZNAME:EDT
DTSTART:20190310T070000
END:DAYLIGHT
BEGIN:STANDARD
TZOFFSETFROM:-0400
TZOFFSETTO:-0500
TZNAME:EST
DTSTART:20191103T060000
END:STANDARD
BEGIN:DAYLIGHT
TZOFFSETFROM:-0500
TZOFFSETTO:-0400
TZNAME:EDT
DTSTART:20200308T070000
END:DAYLIGHT
BEGIN:STANDARD
TZOFFSETFROM:-0400
TZOFFSETTO:-0500
TZNAME:EST
DTSTART:20201101T060000
END:STANDARD
BEGIN:DAYLIGHT
TZOFFSETFROM:-0500
TZOFFSETTO:-0400
TZNAME:EDT
DTSTART:20210314T070000
END:DAYLIGHT
BEGIN:STANDARD
TZOFFSETFROM:-0400
TZOFFSETTO:-0500
TZNAME:EST
DTSTART:20211107T060000
END:STANDARD
END:VTIMEZONE
BEGIN:VEVENT
DTSTART;TZID=America/New_York:20200716T110000
DTEND;TZID=America/New_York:20200716T120000
DTSTAMP:20260421T021915
CREATED:20200709T163800Z
LAST-MODIFIED:20200709T163800Z
UID:10000254-1594897200-1594900800@www.beyondbenign.org
SUMMARY:Career Talk with Janie Butler - Green Chemistry
DESCRIPTION:Janie Butler is the K-12 Program Manager for Beyond Benign and an Advocate for Green Chemistry Education.\nGreen Chemistry gives scientists the framework to design “something beautiful” using chemistry as a tool.\nBy definition\, Green chemistry is the design of chemical products and processes that reduce or eliminate the use or generation of hazardous substances. \nAttend the session to \n\nLearn about the role of Green Chemistry for inventing sustainably\nExplore the continued developments in the undergraduate curriculum for Green Chemistry\nFind out about the high-school courses that can help to provide the foundational skills.\n\nIf you have a passion for Chemistry and Sustainability and focused on how to constantly improve processes\, this session is for you. \n\n\nGreen Chemistry is the future!\nPeople may associate chemistry with toxic materials and chemicals\, but you can change the way people think by practicing Green Chemistry.\nThe goal of Green Chemistry is to create products that never contribute to pollution through specially designed chemicals and thereby keeping the hazardous materials out of the environment. \nChemistry is the alphabet of science. The alphabet has 26 letters and you can take those 26 letters and you can write really nasty horrible stuff or you can write really beautiful poetry or novels. With the tools of chemistry\, as the alphabet of science\, you can either create something beautiful or you can create something hazardous. It’s a choice. \n– John Warner\, Co-Founder of Beyond Benign and President & Chief Technology Officer of Warner Babcock Institute for Green Chemistry (WBI)
URL:https://www.beyondbenign.org/event/career-talk-with-janie-butler-green-chemistry/
LOCATION:Online
CATEGORIES:K-12
ATTACH;FMTTYPE=image/png:https://www.beyondbenign.org/wp-content/uploads/Calendar_K12.png
END:VEVENT
END:VCALENDAR