BEGIN:VCALENDAR
VERSION:2.0
PRODID:-//Beyond Benign - ECPv6.15.20//NONSGML v1.0//EN
CALSCALE:GREGORIAN
METHOD:PUBLISH
X-ORIGINAL-URL:https://www.beyondbenign.org
X-WR-CALDESC:Events for Beyond Benign
REFRESH-INTERVAL;VALUE=DURATION:PT1H
X-Robots-Tag:noindex
X-PUBLISHED-TTL:PT1H
BEGIN:VTIMEZONE
TZID:America/New_York
BEGIN:DAYLIGHT
TZOFFSETFROM:-0500
TZOFFSETTO:-0400
TZNAME:EDT
DTSTART:20180311T070000
END:DAYLIGHT
BEGIN:STANDARD
TZOFFSETFROM:-0400
TZOFFSETTO:-0500
TZNAME:EST
DTSTART:20181104T060000
END:STANDARD
BEGIN:DAYLIGHT
TZOFFSETFROM:-0500
TZOFFSETTO:-0400
TZNAME:EDT
DTSTART:20190310T070000
END:DAYLIGHT
BEGIN:STANDARD
TZOFFSETFROM:-0400
TZOFFSETTO:-0500
TZNAME:EST
DTSTART:20191103T060000
END:STANDARD
BEGIN:DAYLIGHT
TZOFFSETFROM:-0500
TZOFFSETTO:-0400
TZNAME:EDT
DTSTART:20200308T070000
END:DAYLIGHT
BEGIN:STANDARD
TZOFFSETFROM:-0400
TZOFFSETTO:-0500
TZNAME:EST
DTSTART:20201101T060000
END:STANDARD
END:VTIMEZONE
BEGIN:VEVENT
DTSTART;TZID=America/New_York:20190427T083000
DTEND;TZID=America/New_York:20190427T163000
DTSTAMP:20260422T225758
CREATED:20190423T161459Z
LAST-MODIFIED:20190423T161459Z
UID:10000080-1556353800-1556382600@www.beyondbenign.org
SUMMARY:Tech Savvy
DESCRIPTION:This annual event hosted by the American Association of University Women allows middle school girls to explore different fields of STEM thorough hands on activities led by female role models and STEM professionals. \nAmy Cannon (Beyond Benign Executive Director)  will be the Keynote Speaker and will be leading a workshop along side Saskia Van Bergen (Washington State Department of Ecology). Their workshop is called Good CHEMISTRY: Use “green chemistry” to make and test products that are safe for our environment.
URL:https://www.beyondbenign.org/event/tech-savvy/
LOCATION:University Center Gaylord\, 80 Livingston Blvd 49735\, Gaylord\, MI\, 49735\, United States
CATEGORIES:Community Engagement,K-12
ATTACH;FMTTYPE=image/png:https://www.beyondbenign.org/wp-content/uploads/Calendar_CommEngage.png
END:VEVENT
END:VCALENDAR