BEGIN:VCALENDAR
VERSION:2.0
PRODID:-//Beyond Benign - ECPv6.15.20//NONSGML v1.0//EN
CALSCALE:GREGORIAN
METHOD:PUBLISH
X-ORIGINAL-URL:https://www.beyondbenign.org
X-WR-CALDESC:Events for Beyond Benign
REFRESH-INTERVAL;VALUE=DURATION:PT1H
X-Robots-Tag:noindex
X-PUBLISHED-TTL:PT1H
BEGIN:VTIMEZONE
TZID:America/New_York
BEGIN:DAYLIGHT
TZOFFSETFROM:-0500
TZOFFSETTO:-0400
TZNAME:EDT
DTSTART:20210314T070000
END:DAYLIGHT
BEGIN:STANDARD
TZOFFSETFROM:-0400
TZOFFSETTO:-0500
TZNAME:EST
DTSTART:20211107T060000
END:STANDARD
BEGIN:DAYLIGHT
TZOFFSETFROM:-0500
TZOFFSETTO:-0400
TZNAME:EDT
DTSTART:20220313T070000
END:DAYLIGHT
BEGIN:STANDARD
TZOFFSETFROM:-0400
TZOFFSETTO:-0500
TZNAME:EST
DTSTART:20221106T060000
END:STANDARD
BEGIN:DAYLIGHT
TZOFFSETFROM:-0500
TZOFFSETTO:-0400
TZNAME:EDT
DTSTART:20230312T070000
END:DAYLIGHT
BEGIN:STANDARD
TZOFFSETFROM:-0400
TZOFFSETTO:-0500
TZNAME:EST
DTSTART:20231105T060000
END:STANDARD
END:VTIMEZONE
BEGIN:VEVENT
DTSTART;TZID=America/New_York:20221101T130000
DTEND;TZID=America/New_York:20221101T143000
DTSTAMP:20260422T234535
CREATED:20221017T223634Z
LAST-MODIFIED:20221018T200852Z
UID:10000376-1667307600-1667313000@www.beyondbenign.org
SUMMARY:ECOSChem External Engagement Session #1
DESCRIPTION:Interested in supporting the development of a cross-sectoral and actionable definition and criteria for “sustainable chemistry”? Beyond Benign and the Lowell Center for Sustainable Production (LCSP) have been working together with the Expert Committee on Sustainable Chemistry (ECOSChem) over the past 6 months to create a draft definition and set of criteria that can accelerate the development and commercialization of greener\, safer and more sustainable chemicals\, processes and products. More information about the committee’s work and mandate can be found here. A set of external engagement sessions will be taking place in early November to gain broader feedback from the community and your participation and expertise would be greatly appreciated! Registration for the November 1st meeting is available through the link below. \nAt the meeting\, the Project Team (LCSP and Beyond Benign) will introduce the project and the draft definition and criteria for “sustainable chemistry” (15 minutes). Participants will then move into small groups organized by sector that will be moderated by ECOSChem members (45 minutes)\, followed by a wrap-up session where key input will be shared with the large group with time for discussion (30 minutes). Discussion materials for these meetings will be sent out on October 31st.
URL:https://www.beyondbenign.org/event/ecoschem-external-engagement-session-1/
ATTACH;FMTTYPE=image/png:https://www.beyondbenign.org/wp-content/uploads/Calendar_HigherEd_Webinar.png
END:VEVENT
BEGIN:VEVENT
DTSTART;TZID=America/New_York:20221103T100000
DTEND;TZID=America/New_York:20221103T113000
DTSTAMP:20260422T234535
CREATED:20221017T223907Z
LAST-MODIFIED:20221018T200918Z
UID:10000377-1667469600-1667475000@www.beyondbenign.org
SUMMARY:ECOSChem External Engagement Session #2
DESCRIPTION:Interested in supporting the development of a cross-sectoral and actionable definition and criteria for “sustainable chemistry”? Beyond Benign and the Lowell Center for Sustainable Production (LCSP) have been working together with the Expert Committee on Sustainable Chemistry (ECOSChem) over the past 6 months to create a draft definition and set of criteria that can accelerate the development and commercialization of greener\, safer and more sustainable chemicals\, processes and products. More information about the committee’s work and mandate can be found here. A set of external engagement sessions will be taking place in early November to gain broader feedback from the community and your participation and expertise would be greatly appreciated! Registration for the November 3rd meeting is available through the link below. \nAt the meeting\, the Project Team (LCSP and Beyond Benign) will introduce the project and the draft definition and criteria for “sustainable chemistry” (15 minutes). Participants will then move into small groups organized by sector that will be moderated by ECOSChem members (45 minutes)\, followed by a wrap-up session where key input will be shared with the large group with time for discussion (30 minutes). Discussion materials for these meetings will be sent out on October 31st.
URL:https://www.beyondbenign.org/event/ecoschem-external-engagement-session-2/
ATTACH;FMTTYPE=image/png:https://www.beyondbenign.org/wp-content/uploads/Calendar_HigherEd_Webinar.png
END:VEVENT
BEGIN:VEVENT
DTSTART;VALUE=DATE:20221106
DTEND;VALUE=DATE:20221107
DTSTAMP:20260422T234535
CREATED:20220907T173940Z
LAST-MODIFIED:20220907T174722Z
UID:10000361-1667692800-1667779199@www.beyondbenign.org
SUMMARY:STANYS Conference
DESCRIPTION:How to Use Green Chemistry Ideas and Activities in Your Regents Chemistry Class \nSunday\, Nov. 6th 11am-12pm \nLead Teachers Stefanie Loomis\, Scott Carlson and Jim Burdick \nHow can you bring green chemistry and sustainability into your class while meeting the NYSSLS and positively influencing student achievement? Green chemistry is a great avenue for putting chemistry content into context. We’ll share our creation of a NYSSLS-aligned curriculum map for New York teachers implementing green chemistry\, including relevant phenomena and storylines. We will share labs that we use and it is our hope that we can collaborate in this session to brainstorm ways in which these labs could be included into storylines that teachers are planning or using.
URL:https://www.beyondbenign.org/event/stanys-conference/
CATEGORIES:Conference,K-12
ATTACH;FMTTYPE=image/png:https://www.beyondbenign.org/wp-content/uploads/Calendar_K12_ConfWork-3.png
END:VEVENT
BEGIN:VEVENT
DTSTART;TZID=America/New_York:20221110T133000
DTEND;TZID=America/New_York:20221110T150000
DTSTAMP:20260422T234535
CREATED:20221016T223533Z
LAST-MODIFIED:20221017T195612Z
UID:10000375-1668087000-1668092400@www.beyondbenign.org
SUMMARY:Green Chemistry and Commerce Council Roundtable Session: Future Chemists to Drive Green Chemistry at Scale
DESCRIPTION:If you are around Philadelphia in the second week of November\, don’t miss the chance to catch up with our Co-Founder and Executive Director Dr. Amy Cannon for a Special Education Session as part of the Green Chemistry and Commerce Council (GC3) Innovators Roundtable. Besides hearing from the Beyond Benign team\, you will have the chance to hear from other industry and academic speakers on current and future directions of green chemistry education implementation and demand. More information about this event below! We are looking forward to seeing you there! \nGreen Chemistry and Commerce Council Roundtable Session: Future Chemists to Drive Green Chemistry at Scale \nDate: November 10\, 2022\, 1:30 – 3:00pm \nSpeakers: \nJeffrey Whitford\, MilliporeSigma \nAdelina Voutchkova\, ACS Green Chemistry Institute \nAmy Cannon\, Beyond Benign \nAndrea Ashley-Oyewole\, Prairie View A&M University (TX) \nRegister for the GC3 Innovators Roundtable here!
URL:https://www.beyondbenign.org/event/green-chemistry-and-commerce-council-roundtable-session-future-chemists-to-drive-green-chemistry-at-scale/
CATEGORIES:Conference
ATTACH;FMTTYPE=image/png:https://www.beyondbenign.org/wp-content/uploads/GC3-roundtable.png
END:VEVENT
BEGIN:VEVENT
DTSTART;VALUE=DATE:20221115
DTEND;VALUE=DATE:20221118
DTSTAMP:20260422T234535
CREATED:20220907T175401Z
LAST-MODIFIED:20221014T203703Z
UID:10000362-1668470400-1668729599@www.beyondbenign.org
SUMMARY:2022 InventEd Convening
DESCRIPTION:The theme\, Reconnect\, Reimagine\, Reinvigorate captures the energy and spirit of our community to continue connecting\, learning from each other\, and collaborating to jointly build the field of Invention Education. \nWhether joining in-person or virtually\, participants can expect an inclusive experience in which to build new connections\, opportunities to reimagine and workshop new ideas\, and to walk away reinvigorated to build and support Invention Education across learning environments and communities. \nBeyond Benign will be participating in the upcoming Lemelson Foundation’s 2022 inventEd Convening in Alexandria\, VA. \nAs active members of the invention education community Beyond Benign will be highlighting it’s work on Building a Sustainable Invention Community for Middle School Educators and the 2021-2022 Sustainable Speaker Series.
URL:https://www.beyondbenign.org/event/2022-invented-convening/
CATEGORIES:Conference,K-12
ATTACH;FMTTYPE=image/png:https://www.beyondbenign.org/wp-content/uploads/Calendar_K12.png
END:VEVENT
BEGIN:VEVENT
DTSTART;TZID=America/New_York:20221116T120000
DTEND;TZID=America/New_York:20221116T140000
DTSTAMP:20260422T234535
CREATED:20220720T183729Z
LAST-MODIFIED:20220720T212833Z
UID:10000346-1668600000-1668607200@www.beyondbenign.org
SUMMARY:Green Chemistry Connections
DESCRIPTION:Register now to join us! \nBeyond Benign will be hosting monthly Green Chemistry Connections around Green Chemistry education using the Green Chemistry Students Learning Objectives from the Green Chemistry Commitment program as a loose framework. Register to stay in the loop about upcoming speakers. \nEach time we meet\, we will host community leaders who are actively practicing Green Chemistry and/or Toxicology in their courses and/or laboratories. Connections grow through time dedicated to small group discussions\, networking\, and resource sharing. \nWe ask that you BYOR\, bring your own resource or request to the community – share a resource or put a request out to the group for resources you need. \nWe invite you to bring your departmental colleagues\, external collaborators\, graduate teaching assistants\, etc. to the discussion as we will be holding this space and time monthly for the community to come together around Green Chemistry education to advance the field together virtually! \nRegister now to join us! \nAfter registering\, you’ll receive more information about the Green Chemistry Connections via calendar invite and emails as the meeting time approaches as well as access to our Google Site the virtual home of the Connections to stay connected with the community between live meeting times.
URL:https://www.beyondbenign.org/event/green-chemistry-connections-3/2022-11-16/
LOCATION:Online
CATEGORIES:General,Higher Education,K-12,Webinar
ATTACH;FMTTYPE=image/png:https://www.beyondbenign.org/wp-content/uploads/GCConnections-1.png
END:VEVENT
BEGIN:VEVENT
DTSTART;TZID=America/New_York:20221117T190000
DTEND;TZID=America/New_York:20221117T190000
DTSTAMP:20260422T234535
CREATED:20220907T180426Z
LAST-MODIFIED:20230317T140911Z
UID:10000364-1668711600-1668711600@www.beyondbenign.org
SUMMARY:Observe\, Wonder\, Think: A Green Chemistry Interactive Webinar Series
DESCRIPTION:Calling all K-12 teachers! Create safer\, more engaging learning environments by integrating green chemistry and sustainable science principles into your classroom. Join your peers at our monthly professional development series: Observe\, Wonder\, Think: A Green Chemistry Interactive Webinar Series to learn how! \nFollowing NGSS best practice techniques\, this webinar series will support K-12 educators to foster “observe\, wonder\, think” with their students using hands-on green chemistry labs and highlighting real-world green chemistry technologies. Each time we meet\, we will host education leaders who are actively practicing green chemistry in their classrooms to walk through their favorite green chemistry labs and experiments. There will be time for Q&A and/or networking at the end of each call. \nThis professional development series will be held on the third Thursday of the month\, October 2022 through May 2023. By registering here\, you will be signed up for all events and have access to all event recordings.  \nOctober\, December\, February\, April 6pm ET  \nNovember\, January\, March\, May 7pm ET  \nWe’ll send reminders ahead of each event. Each participant will receive a certificate of completion at the end of each meeting.
URL:https://www.beyondbenign.org/event/observe-wonder-think-a-green-chemistry-interactive-webinar-series/2022-11-17/
CATEGORIES:K-12,Webinar
ATTACH;FMTTYPE=image/png:https://www.beyondbenign.org/wp-content/uploads/copyObserve-wonder-think.png
END:VEVENT
BEGIN:VEVENT
DTSTART;TZID=America/New_York:20221118T060000
DTEND;TZID=America/New_York:20221118T070000
DTSTAMP:20260422T234535
CREATED:20221117T171430Z
LAST-MODIFIED:20221117T171800Z
UID:10000378-1668751200-1668754800@www.beyondbenign.org
SUMMARY:Green Chemistry for Sustainable Development
DESCRIPTION:Our Co-Founder Dr. Amy Cannon will be speaking about Green Chemistry for Sustainable Development during the International Conference on Green Initiatives in Chemical Sciences for Sustainable Development (ICGICSSD-2022) on November 18 @ 6:00 AM (EST). \nThe conference is taking place from November 18-19\, 2022 and it is organized by the Department of Chemistry\, Sikkim Manipal Institute of Technology (Sikkim\, India) and Association of Chemistry Teachers\, C/O Homi Bhabha Centre for Science Education (Mumbai\, India) in association with Indian National Science Academy (INSA) (New Delhi\, India). More information about the event can be found on their website.
URL:https://www.beyondbenign.org/event/green-chemistry-for-sustainable-development/
CATEGORIES:Conference,Webinar
ATTACH;FMTTYPE=image/png:https://www.beyondbenign.org/wp-content/uploads/Calendar_HIgherEd_VirtualConfer.png
END:VEVENT
BEGIN:VEVENT
DTSTART;VALUE=DATE:20221128
DTEND;VALUE=DATE:20221129
DTSTAMP:20260422T234535
CREATED:20221123T164707Z
LAST-MODIFIED:20221123T182847Z
UID:10000384-1669593600-1669679999@www.beyondbenign.org
SUMMARY:LatinXChem
DESCRIPTION:On November 28th\, join our team and our Green Chemistry Commitment Signers (GCC) from Latin America to learn more about their amazing Green Chemistry initiatives during the LatinXChem Twitter Conference! The LatinXChem is a virtual forum through which the community of Latin American chemists around the world can share and discuss their research results and advances. Below you can find a list of presenters from our community: \nIFRJ – Duque de Caxias: \n\nVegetable Analysis by Holistic Metrics of Biodiesel Synthesis Using Ultrasound. José Victor Lopes (@Josevictor555)\, Quell Almeida\, Thiago Aversa;\nGreen City: A Game for Green Chemistry Teaching. Maria Victória Barros Costa (@mavibarrosc)\, Quell Almeida.\nVerdeLab: The Use of Social Media to Promote Green Chemistry. Larissa Nogueira (@Lari78135593)\, Thalia Ayane de Andrade\, Quell Almeida\, Thiago Aversa.\n\nUniversidad de la Costa (@cnyecuc): \n\nAwareness and Action in the Caribbean: Impact of Sunscreens on Underwater Life. Gabriela María Rodríguez Arellana (@_Gabara).\n\nUniversidade Federal de Pelotas (@UFPel\, @wwverde): \n\nWWVerde: The Green Chemistry Propagation Webpage in Brazil. Eder Joao Lenardao (@EderLenardao)\, Gabriela Trisch de Quadros (@eugabitrisch)\, Sabrina Souza Ferreira (@SabrinaSouzaF16);\nArylseleninic Acids as Selenylating Agents. Photocatalytic synthesis of 3-Selanylindoles under Blue LED irradiation. Eder Joao Lenardao (@EderLenardao)\, Gabriela Trisch de Quadros (@eugabitrisch)\, Laura Abenante (@LauraAbenante);\nDinitrile Triselenide: A Suitable Reagent for Preparing α-Carbonyl-selenocyanate and 2-Phenyl-imidazo[1\,2a]pyridines under Visible Light Irradiation. Eder Joao Lenardao (@EderLenardao)\, Sabrina Souza Ferreira (@SabrinaSouzaF16); João Marcos Anghinoni (@joao_anghinoni).\n\nUNESP (@IqUnesp): \n\nUN Sustainable Development Goals and green chemistry – Contributions Contributions to Undergraduate Teaching in Chemistry and Chemical Engineering. Leticia Damiano Dantas (@damiano_Leticia);\nSustainable QR Codes for Anti-Counterfeiting Applications Triggered by the Photothermal Response of Upconverting Nanoparticles. Fernando Eduardo Maturi (@MaturiFernando).\n\nUniversidade Federal do Mato Grosso do Sul: \n\nKIO4‐mediated Selective Hydroxymethylation/Methylenation of Imidazo‐Heteroarenes: A Greener Approach. Jamal Rafique (@jamalrafique)\, Marcelo Straesser Franco\, Sumbal Saba\, Antonio Luiz Braga.\n\nUniversidade Federal de Goiás: \n\nVersatile Electrochemical Synthesis of Selenylbenzo [b] furans Derivatives Through the Cyclization of 2-alkynylphenols. Sumbal Saba (@SumbalSaba)\, Carlos Doerner\, Marcos Scheide\, Celso Nicoleti\, Daniele Durigon\, Vinícius Idiarte\, Martinho Sousa\, Samuel Mendes\, José Neto\, Guilherme Martins\, Jamal Rafique\, Antonio Luiz Braga.
URL:https://www.beyondbenign.org/event/latinxchem/
CATEGORIES:Conference,Higher Education
ATTACH;FMTTYPE=image/png:https://www.beyondbenign.org/wp-content/uploads/Calendar_HIgherEd_VirtualConfer.png
END:VEVENT
END:VCALENDAR