BEGIN:VCALENDAR
VERSION:2.0
PRODID:-//Beyond Benign - ECPv6.15.20//NONSGML v1.0//EN
CALSCALE:GREGORIAN
METHOD:PUBLISH
X-WR-CALNAME:Beyond Benign
X-ORIGINAL-URL:https://www.beyondbenign.org
X-WR-CALDESC:Events for Beyond Benign
REFRESH-INTERVAL;VALUE=DURATION:PT1H
X-Robots-Tag:noindex
X-PUBLISHED-TTL:PT1H
BEGIN:VTIMEZONE
TZID:America/New_York
BEGIN:DAYLIGHT
TZOFFSETFROM:-0500
TZOFFSETTO:-0400
TZNAME:EDT
DTSTART:20250309T070000
END:DAYLIGHT
BEGIN:STANDARD
TZOFFSETFROM:-0400
TZOFFSETTO:-0500
TZNAME:EST
DTSTART:20251102T060000
END:STANDARD
BEGIN:DAYLIGHT
TZOFFSETFROM:-0500
TZOFFSETTO:-0400
TZNAME:EDT
DTSTART:20260308T070000
END:DAYLIGHT
BEGIN:STANDARD
TZOFFSETFROM:-0400
TZOFFSETTO:-0500
TZNAME:EST
DTSTART:20261101T060000
END:STANDARD
BEGIN:DAYLIGHT
TZOFFSETFROM:-0500
TZOFFSETTO:-0400
TZNAME:EDT
DTSTART:20270314T070000
END:DAYLIGHT
BEGIN:STANDARD
TZOFFSETFROM:-0400
TZOFFSETTO:-0500
TZNAME:EST
DTSTART:20271107T060000
END:STANDARD
END:VTIMEZONE
BEGIN:VEVENT
DTSTART;VALUE=DATE:20260507
DTEND;VALUE=DATE:20260508
DTSTAMP:20260419T102615
CREATED:20260326T154819Z
LAST-MODIFIED:20260326T154819Z
UID:10000616-1778112000-1778198399@www.beyondbenign.org
SUMMARY:#CLEAR26 Online Symposium (#CLEAR2026 Symposium)
DESCRIPTION:The annual CLEAR Symposium connects chemistry educators worldwide in a virtual symposium\, enhancing laboratory teaching through research. Attend #CLEAR26\, an online symposium on laboratory teaching in chemistry\, to gain valuable insights from experts in the field! Dr. Monica Soma Hensley\, Beyond Benign Higher Education Instruction and Research Manager\, is a co-organizer for this year’s symposium\, which centers on the theme of Sustainability and Green Chemistry.  \nResearchers and practitioners are encouraged to share their work on teaching and learning in the chemistry laboratory. All interested individuals are invited to submit a poster for the event that focuses on research\, assessment\, or evaluation related to laboratory practices.\n\n🗓️ Date: May 7th\, 2026  \n📍 Location: Online  \n🔗 To learn more\, register\, or submit a poster: \nhttps://clearsymposium.weebly.com/registersubmissions.html
URL:https://www.beyondbenign.org/event/clear26-online-symposium-clear2026-symposium/
CATEGORIES:Conference,Higher Education
ATTACH;FMTTYPE=image/png:https://www.beyondbenign.org/wp-content/uploads/image2-13.png
END:VEVENT
BEGIN:VEVENT
DTSTART;VALUE=DATE:20260524
DTEND;VALUE=DATE:20260529
DTSTAMP:20260419T102615
CREATED:20250825T172334Z
LAST-MODIFIED:20250825T172334Z
UID:10000557-1779580800-1780012799@www.beyondbenign.org
SUMMARY:Canadian Societies for Chemistry and Chemical Engineering 2026 Conferences and Exhibition (x2026)
DESCRIPTION:The Canadian Societies for Chemistry and Chemical Engineering 2026 Conferences and Exhibition (x2026)\, hosted by the CSC and CSChE will provide access to an expanded array of technical sessions\, workshops\, and keynote presentations\, while promoting multidisciplinarity and offering diverse viewpoints on the opportunities and challenges facing those working in the chemical sciences\, technologists\, and engineering fields. The distinct identities and independence of CSC and CSChE will be maintained.
URL:https://www.beyondbenign.org/event/canadian-societies-for-chemistry-and-chemical-engineering-2026-conferences-and-exhibition-x2026/
LOCATION:Toronto\, Toronto\, Canada
CATEGORIES:Conference
ATTACH;FMTTYPE=image/jpeg:https://www.beyondbenign.org/wp-content/uploads/x2026_General_LinkedIn_EN.jpg
END:VEVENT
END:VCALENDAR