BEGIN:VCALENDAR
VERSION:2.0
PRODID:-//Beyond Benign - ECPv6.15.20//NONSGML v1.0//EN
CALSCALE:GREGORIAN
METHOD:PUBLISH
X-ORIGINAL-URL:https://www.beyondbenign.org
X-WR-CALDESC:Events for Beyond Benign
REFRESH-INTERVAL;VALUE=DURATION:PT1H
X-Robots-Tag:noindex
X-PUBLISHED-TTL:PT1H
BEGIN:VTIMEZONE
TZID:America/New_York
BEGIN:DAYLIGHT
TZOFFSETFROM:-0500
TZOFFSETTO:-0400
TZNAME:EDT
DTSTART:20240310T070000
END:DAYLIGHT
BEGIN:STANDARD
TZOFFSETFROM:-0400
TZOFFSETTO:-0500
TZNAME:EST
DTSTART:20241103T060000
END:STANDARD
BEGIN:DAYLIGHT
TZOFFSETFROM:-0500
TZOFFSETTO:-0400
TZNAME:EDT
DTSTART:20250309T070000
END:DAYLIGHT
BEGIN:STANDARD
TZOFFSETFROM:-0400
TZOFFSETTO:-0500
TZNAME:EST
DTSTART:20251102T060000
END:STANDARD
BEGIN:DAYLIGHT
TZOFFSETFROM:-0500
TZOFFSETTO:-0400
TZNAME:EDT
DTSTART:20260308T070000
END:DAYLIGHT
BEGIN:STANDARD
TZOFFSETFROM:-0400
TZOFFSETTO:-0500
TZNAME:EST
DTSTART:20261101T060000
END:STANDARD
END:VTIMEZONE
BEGIN:VEVENT
DTSTART;VALUE=DATE:20250409
DTEND;VALUE=DATE:20250412
DTSTAMP:20260425T202953
CREATED:20250402T132828Z
LAST-MODIFIED:20250402T132828Z
UID:10000507-1744156800-1744415999@www.beyondbenign.org
SUMMARY:Emerald Isle Conference on Sustainable Chemistry & Engineering
DESCRIPTION:We are delighted to announce the inaugural Emerald Isle Conference on Sustainable Chemistry and Engineering\, which will be held in Belfast from 9th to 11th April 2025. \n  \nInternational green chemists\, engineers\, and educators will meet to share best practice and strengthen collaboration. A line up of global thought leaders will offer insights to help shape the future direction of green chemistry and engineering education\, research\, and industry. \n  \nWe have an exciting list of invited speakers\, who will also participate in a panel discussion. Pioneers of green chemistry and engineering will be there from both sides of the pond\, including John Warner\, Paul Anastas\, Julie Zimmerman\, Roger Sheldon\, Walter Leitner and Martyn Poliakoff. \n  \n \n 
URL:https://www.beyondbenign.org/event/emerald-isle-conference-on-sustainable-chemistry-engineering/
LOCATION:Europa Hotel Belfast
CATEGORIES:Conference
ATTACH;FMTTYPE=image/jpeg:https://www.beyondbenign.org/wp-content/uploads/Towards-Sustainability-Through-Education-The-Green-Chemistry-Commitment-Program-at-Beyond-Benign-Juliana-L.-Vidal-Amy-Cannon-Natalie-ONeil-and-Monica-Hensley.jpg
END:VEVENT
END:VCALENDAR